BEGIN:VCALENDAR
VERSION:2.0
PRODID:-//serviceleague.org//NONSGML kigkonsult.se iCalcreator 2.30.10//
CALSCALE:GREGORIAN
METHOD:PUBLISH
UID:6245b175-6141-4729-91c3-855d42481a8f
X-WR-CALDESC:40th Annual Prayer Lunch dedicated to the memory of Karen Fran
 cone. Formal invitations will be mailed March 5th.
X-WR-RELCALID:1ab4ae1a5c7ac4bea7a2de7782098b37
X-WR-TIMEZONE:America/Los_Angeles
BEGIN:VTIMEZONE
TZID:America/Los_Angeles
BEGIN:STANDARD
TZNAME:PST
DTSTART:20251102T020000
TZOFFSETFROM:-0700
TZOFFSETTO:-0800
RDATE:20261101T020000
RDATE:20271107T020000
END:STANDARD
BEGIN:DAYLIGHT
TZNAME:PDT
DTSTART:20260308T020000
TZOFFSETFROM:-0800
TZOFFSETTO:-0700
RDATE:20270314T020000
END:DAYLIGHT
END:VTIMEZONE
BEGIN:VEVENT
UID:52205618-b4fc-48af-8aa2-a2c2c2730577
DTSTAMP:20260420T025438Z
DESCRIPTION:40th Annual Prayer Lunch dedicated to the memory of Karen Franc
 one. Formal invitations will be mailed March 5th.
DTSTART;TZID=America/Los_Angeles:20260508T113000
DTEND;TZID=America/Los_Angeles:20260508T140000
LOCATION:Crowne Plaza Foster City\, 1221 Chess Dr\, Foster City\, CA 94404 
 US
SUMMARY:40th Annual Prayer Lunch
END:VEVENT
END:VCALENDAR
