BEGIN:VCALENDAR
VERSION:2.0
PRODID:-//serviceleague.org//NONSGML kigkonsult.se iCalcreator 2.30.10//
CALSCALE:GREGORIAN
METHOD:PUBLISH
UID:9bc88fb1-640b-4b20-a84f-f50bca9d544a
X-WR-CALDESC:
X-WR-RELCALID:7fa9e3ae2c453981b2ea9fcd55ce8fcd
X-WR-TIMEZONE:America/Los_Angeles
BEGIN:VTIMEZONE
TZID:America/Los_Angeles
BEGIN:STANDARD
TZNAME:PST
DTSTART:20251102T020000
TZOFFSETFROM:-0700
TZOFFSETTO:-0800
RDATE:20261101T020000
RDATE:20271107T020000
END:STANDARD
BEGIN:DAYLIGHT
TZNAME:PDT
DTSTART:20260308T020000
TZOFFSETFROM:-0800
TZOFFSETTO:-0700
RDATE:20270314T020000
END:DAYLIGHT
END:VTIMEZONE
BEGIN:VEVENT
UID:a7c520f7-c9fa-44cf-a965-897b5267cbcb
DTSTAMP:20260420T041844Z
DESCRIPTION:
DTSTART;TZID=America/Los_Angeles:20260619T030000
DTEND;TZID=America/Los_Angeles:20260619T030001
LOCATION:727 Middlefield Rd\, Redwood City\, CA 94063 US
SUMMARY:Service League Office Closed - Juneteenth
END:VEVENT
END:VCALENDAR
